﻿

BEGIN:VCALENDAR
VERSION:2.0
PRODID:-//Castora//Streamplan//DE
CALSCALE:GREGORIAN
BEGIN:VEVENT
UID:stream_416@nagungaming.castora.app
DTSTAMP:20260424T111454Z
DTSTART:20260426T090000
DTEND:20260426T100000
SUMMARY:Stream: Just Chatting
DESCRIPTION:Wir gehen in den letzten Sonntag des April mit einen weiteren 12 Stunden Communitystream! Dieser ist nur durch euren unfassbar krassen Support erst möglich! An der Stelle nochmal vielen Dank für eure unendlich krasse Unterstützung ❤️
LOCATION:https://twitch.tv/nagungaming
END:VEVENT
END:VCALENDAR